BEGIN:VCALENDAR
METHOD:PUBLISH
PRODID:-//Weblication CMS
VERSION:2.0
BEGIN:VEVENT
SUMMARY:Lutz Bernsau – Maler und Bildhauer: Ausstellung Kreissparkasse Steinfurt
DTSTART;VALUE=DATE:20191122
DTEND;VALUE=DATE:20191220
DESCRIPTION:Die Kreissparkasse Steinfurt zeigt vom 22.11.bis 20.12. 2019 Malereien und Skulpturen des Künstlers Lutz Bernsau. Eröffnung: 22.11.2019, 18.30 Uhr in Anwesenheit des Künstlers Ort: Kreissparkasse Steinfurt, Bahnhofstr. 2 / Eingang Ochtruper Straße Künstlergespräch: 12.12.2019, 15 Uhr 
LOCATION:Steinfurt
UID:https://www.steinfurter-land.de/sl/veranstaltungen/termine/Ausstellung-Lutz-Bernsau.php
URL:https://www.steinfurter-land.de/sl/veranstaltungen/termine/Ausstellung-Lutz-Bernsau.php
END:VEVENT
END:VCALENDAR