BEGIN:VCALENDAR
METHOD:PUBLISH
PRODID:-//Weblication CMS
VERSION:2.0
BEGIN:VEVENT
SUMMARY:Nikolausmarkt am Heimathaus / abgesagt!!!
DTSTART:20201128T110000
DTEND:20201129T220000
DESCRIPTION:Romantischer Nikolausmarkt am Heimathaus. Nikolaus-Foto- Shooting, Stutenkerle verteilen, Bühnenprogramm, Reibekuchen, Kaffee, Glühwein, Lagerfeuerspiele, Moonlight-Glühen, verkaufsoffener Sonntag Ort: Heimathaus Wettringen Eintritt frei 15 bis 22 Uhr und 11 bis 18 Uhr
LOCATION:Wettringen
UID:https://www.steinfurter-land.de/sl/veranstaltungen/termine/nikolausmarkt-am-heimathaus.php
URL:https://www.steinfurter-land.de/sl/veranstaltungen/termine/nikolausmarkt-am-heimathaus.php
END:VEVENT
END:VCALENDAR